Workbook
Name Activo_Información: Hoja3!$I$34:$I$38
Name Apoyo: Hoja3!$E$87:$E$92
Name Corrupcion: Hoja3!$I$1:$I$3
Name Cumplimiento: Hoja1!$D$3:$D$7
Name Dependencia: [1]Hoja3!$C$72:$C$102
Name Dependencia: Hoja3!$C$72:$C$102
Name Dirección: Hoja3!$E$72:$E$73
Name Estrategicos: Hoja1!$D$3:$D$7
Name Financieros: Hoja1!$D$3:$D$7
Name Gerenciales: Hoja1!$D$3:$D$7
Name Imagen_o_Reputacional: Hoja1!$D$3:$D$7
Name Operativos: Hoja1!$D$3:$D$7
Name Prestación_del_Servicio: Hoja3!$E$74:$E$85
Name Tecnologicos: Hoja1!$D$3:$D$7
Name Tipo: [1]Hoja3!$A$66:$A$68
Name Tipo: Hoja3!$A$66:$A$68
Name TIPO_PROCESO: Hoja1!$B$2:$B$6
Name tipo_riesgo: [1]Hoja3!$A$2:$A$9
Name TIPOLOGIA_DE_RIESGOS: Hoja1!$C$3:$C$10

Sheet Mapeo Mejora Continua
A1: MAPEO DE PROCESO (Identificación de Riesgos)
A3: Dependencia | B3: Grupo Interno de Sistemas | C3: Proceso | D3: Gestión de TIC | F3: Responsable de Proceso | G3: Fabio Sanchez | J3: Líder de Sistemas de Gestión | N3: Patricia Rodriguez
A4: PARTE A: GESTIÓN DEL PROCESO
A5: Objetivo estratégico y de Calidad | B5: Gestionar los recursos necesarios en el corto, mediano y largo plazo y su utilización de forma eficiente y eficaz. | E5: Objetivo del Proceso | F5: Gestionar y operar los servicios TIC para satisfacer las necesidades tecnológicas de la SCRD
A6: Alcance | B6: Estrategia TIC formalizada en el Plan Estratégico de TIC (PETI), su formulación, implementación, seguimiento y evaluación. Identificación, definición, diseño, desarrollo y entrega de Soluciones TIC para satisfacer las necesidades TIC de los procesos de la entidad. Operación de Servicios TIC asegurando la capacidad y disponibilidad requerida por los procesos y usuarios internos y externos. | E6: Indicadores de Gestión (Formula) | F6: IND-TIC-01 Continuidad de servicios en red IND-TIC-02 Eficacia en la solución de requerimientos IND-TIC-03 Oportunidad en la atención de requerimientos IND-TIC-04 Nivel de satisfacción del usuario con el servicio de gestión de Tic
A7: Primero diligenciar desde la Columna (A hasta la E) | F7: SITUACIONES NO DESEADAS (Riesgos) | G7: Priorización | H7: REDACCIÓN DEL RIESGO | N7: FT-01-CP-DES Conocimiento y Contexto (Debilidades - Amenazas- Vulnerabilidades) | O7: Consecuencia (Lo que generaría)
A8: Actividades Críticas del Proceso | B8: Documentos formalizados en los Sistemas de Gestión | C8: Productos y Servicios (Nivel Interno y externo) | D8: Partes Interesadas | E8: Cuenta con indicadores asociados (Formula) | H8: 1.Situación no deseada | I8: 2. Preposición | J8: 3.Complemento | K8: Riesgo | L8: Tipo de Riesgo | M8: Tipo de Activo | N8: Causa (Debido a)
A9: Administrar la infraestructura informática (plataforma tecnológica) sobre la cual se soportan los sistemas de información y servicios TIC | B9: 1. Plan anual de mantenimiento de HW (pendiente de formalizar en el Sistema de Gestión) | C9: Servicios TIC en Operación cumpliendo con los niveles de capacidad y disponibilidad definidos garantizando privacidad y confidencialidad de la información. | D9: Todos los Procesos de la SCRD | E9: IND-TIC-01 Continuidad de servicios en red IND-TIC-04 Nivel de satisfacción del usuario con el servicio de gestión de Tic | F9: Interrupción en la prestación del servicio de la infraestructura tecnológica. | G9: 2 | H9: Afectación en el cumplimiento de los objetivos de los procesos de la entidad | I9: por | J9: la interrupción en la prestación del servicio de la infraestructura tecnológica. | K9: =H9&" "&I9&" "&J9 -> Afectación en el cumplimiento de los objetivos de los procesos de la entidad por la interrupción en la prestación del servicio de la infraestructura tecnológica. | L9: Riesgo de Gestión /Seguridad de la Información | M9: Infraestructura | N9: 1. Interrupción de los servicios de la energía eléctrica regulada al interior de la entidad. 2. Incumplimiento de la prestación del servicio de los proveedores externos. 3. Fallas imprevistas de los equipos. 4. Desastres naturales. 5. Acciones deliberadas y no deliberadas por el factor humano. 6. Falta de mantenimiento de Infraestructura TI 7. Falta de monitoreo de la intraestructura TI | O9: 1. Sanciones e incumplimiento legal. 2. No cumplir con las metas Distritales. 3. Afectación de la imagen de la SCRD. 4. No genera la satisfacción de los clientes internos de la entidad. 5. Incremento de los reprocesos en la ejecución de las actividades.
F10: No se gestionaria y operaria los servicios TIC | G10: 3
F11: Afectación en el cumplimiento de los objetivos de los procesos de la entidad. | G11: 1
A12: Adquirir, implementar y/o mantener las Soluciones TIC definidas y priorizadas por la entidad | B12: 1. pr-tic-04_v1_sistemas_de_informacion En proceso de actualización 2. IT-01-PR-TIC-04 v1 Guía para la definición, diseño, construcción y entrega de soluciones TIC 17/04/2019 3. Plan anual de mantenimiento de SW (pendiente de formalizar en el Sistema de Gestión) | C12: Soluciones TIC en Operación | D12: Todos los Procesos de la SCRD | E12: IND-TIC-04 Nivel de satisfacción del usuario con el servicio de gestión de Tic | F12: Soluciones TIC mal definidas y priorizadas | G12: 1 | H12: Incumplimiento en los requerimientos solicitados por la Secretaría | I12: en | J12: la definición, diseño, construcción y entrega de soluciones TIC | K12: =H12&" "&I12&" "&J12 -> Incumplimiento en los requerimientos solicitados por la Secretaría en la definición, diseño, construcción y entrega de soluciones TIC | L12: Riesgo de Gestión | M12: Software | N12: 1. Falta de detalle en las especificaciones por parte de las áreas funcionales en el registro de las solicitudes de Servicios TIC. 2. Falta de adopción de formatos y registros para la definición de las solicitudes y requerimientos de servicios TIC. 3. No inclusión en el plan de mantenimiento de requerimiento de SW consignadas en la solicitud de necesidades TIC de la Entidad. 4. Falta de seguimiento y supervisión en la prestación del servicios por parte de los proveedores o contratistas. | O12: 1.No genera la satisfacción de los clientes internos de la entidad. 2. Incremento de los reprocesos en la ejecución de las actividades. 3. Perdida de economicas 4. Incumplimiento normativo o regulatorio
F13: Soluciones TIC fuera de operación | G13: 2
A14: Implementar mecanismos de seguridad informática para proteger los activos TIC y de información de la entidad | B14: 1. mn-05-cp-tic-est_v3_politica_de_seguridad_de_la_información 2. pr-tic-_05_v1_Gestión_ Activos _de_Información.pdf | C14: Servicios TIC en Operación cumpliendo con los niveles de capacidad y disponibilidad definidos garantizando privacidad y confidencialidad de la información. | D14: Todos los Procesos de la SCRD | E14: Indicador del SGSPI (Pendiente de formalizar) | F14: Incumplimiento de las politicas de seguridad de la información asi como las definiciones y lineamientos del SGSPI | G14: 1 | H14: Perdida de la confidencialidad, integridad y disponibilidad | I14: de | J14: los activos de información de la entidad | K14: =H14&" "&I14&" "&J14 -> Perdida de la confidencialidad, integridad y disponibilidad de los activos de información de la entidad | L14: Riesgo de Gestión /Seguridad de la Información | M14: Procesos | N14: 1. Desconocimiento de las politicas por parte de funcionarios y contratistas de la entidad 2. Gestión inadecuada de los activos de información. 3. Falta de apropiación de la cultura de seguridad de la información en la entidad. 4. Falta de presupuesto para la gestión de la seguridad informática. | O14: 1. Sanciones e incumplimiento legal. 2. Afectación de la imagen y reputación de la SCRD. 3. Degradación de los atributos de seguridad de la información (Confidencialidad, Integridad y Disponibilidad) de la entidad. 4. Incremento de los reprocesos en la ejecución de las actividades. 5. Perdida de información 6. Perdidas económicas 7. Materialización de riesgos de seguridad de la información.
F15: No contar con los mecanismos de seguridad informática para proteger los activos de TI y de la información de la Entidad. | G15: 2
A16: Realizar actividades de soporte técnico y actualización de soluciones TIC.. | B16: 1. PR-TIC-02 v9 Soporte técnico 14/03/2019 2. FR-02-PR-TIC-02 v2 contingencia mesa de servicios 14/03/2019 3. FT-01-CP-TIC-EST Definición de acuerdos de niveles de servicio para el área de soporte técnico 08/10/2016 4. IT-01-PR- TIC-02 V1 Instructivo mesa de servicios - GLPI 28/05/2020 | C16: Soluciones TIC actualizadas y usuarios de la entidad atendidos oportunamente. | D16: Todos los Procesos de la SCRD | E16: IND-TIC-02 Eficacia en la solución de requerimientos IND-TIC-03 Oportunidad en la atención de requerimientos IND-TIC-04 Nivel de satisfacción del usuario con el servicio de gestión de Tic | F16: Insatisfacción de usuarios de servicios tecnologicos | G16: 1 | H16: Insatisfacción de usuarios de servicios tecnologicos | I16: por | J16: la no atención oportuna de requerimientos | K16: =H16&" "&I16&" "&J16 -> Insatisfacción de usuarios de servicios tecnologicos por la no atención oportuna de requerimientos | L16: Riesgo de Gestión /Seguridad de la Información | M16: Personas | N16: 1. Falta de personal para atención de requerimientos 2. Desconocimiento del procedimiento de soporte tecnico y manual de la herramienta de la mesa de servicios 3. Falta de idoneidad en el personal de atención de soporte. | O16: 1. Insatisfacción de usuarios de la entidad 2. Afectación de la imagen y gestión del proceso.
F17: Afectación de la seguridad informatica por falta de monitoreo de heramientas de seguridad. | G17: 2
F18: Mal funcionamiento de equipos de computo por desactualización de software | G18: 3
A19: Propender por la seguridad de los recursos de información, gestionados por el GIS, para el cumplimiento de los diferentes procesos de la entidad. | B19: 1. mn-05-cp-tic-est_v3_politica_de_seguridad_de_la_información 2. PR-TIC-03 v6 Base de datos 17/05/2019 3. IT-01-PR- TIC-03 V5 structivo_copias_de_seguridad_editable_junio_06.06/06/2019 indice_de_informacion_clasificada_y_reservada_2019_scrd (1) registro_de_activos_de_informacion_2019_scrd (1) | C19: Información segura y oportuna | D19: Todos los Procesos de la SCRD | E19: Indicador del SGSPI (Pendiente de formalizar) | F19: Alterar la configuración de los sistemas de información en beneficio propio o de terceros | G19: 2 | H19: Perdida de confidencialidad e integridad de los activos de información en beneficio propio o de terceros | I19: por | J19: accesos indebidos o no autorizados de las bases de datos gestionadas por el GIS | K19: =H19&" "&I19&" "&J19 -> Perdida de confidencialidad e integridad de los activos de información en beneficio propio o de terceros por accesos indebidos o no autorizados de las bases de datos gestionadas por el GIS | L19: Riesgo de Corrupción | M19: Información | N19: 1. Falta de gestión en el control de accesos a las bases de datos. 2. Desconocimiento de politicas, lineamientos, procedimientos e instructivos de seguridad de la información. 3. Desconocimiento de los instrumentos de la ley 1712 (Registro de activos de información e Indice de información clasificada y reservada) | O19: 1. Afectación de imagen 2. Reprocesos 3. incumplimientos legales y normativos 4. Insatisfacción de usuarios 5. Incumplimientos de objetivos de la entidad.
F20: Ingreso y utilización de la información de los sistemas de información para beneficio propio o de tercero | G20: 3
F21: Perdida de confidencialidad e integridad de los activos de información. | G21: 1
A23: PARTE B: GESTIÓN DE LOS PROYECTOS DE INVERSIÓN
A24: Meta de Plan de Desarrollo | E24: Proyecto de Inversión | H24: Objetivos del Proyecto de Inversión
A25: Objetivos Especificos | E25: Indicadores
A26: Primero diligenciar desde la Columna (A hasta la E) | F26: SITUACIONES NO DESEADAS (Riesgos) | G26: Priorización | H26: REDACCIÓN DEL RIESGO | N26: FT-01-CP-DES Conocimiento y Contexto (Debilidades - Amenazas) | O26: Consecuencia (Lo que generaría)
A27: Actividades Críticas de Poyecto | B27: Proyectos | C27: Productos y Servicios (Nivel Interno y externo) | D27: Partes Interesadas | E27: Cuenta con indicadores asociados | H27: 1.Situación no deseada | I27: 2. Preposición | J27: 3.Complemento | N27: Causa (Debido a)

Sheet 0.Portada
C1: MAPA DE RIESGOS DE GESTIÓN Y CORRUPCIÓN | L1: Página 1 de 6
L5: Código: | M5: FR-01-PR-MEJ-05
L7: Versión: | M7: 2
L8: Fecha: | M8: 43783
A9: PROCESO | B9: GESTIÓN TIC | E9: RESPONSABLE DEL PROCESO | G9: COORDINADOR DE GRUPO INTERNO DE SISTEMAS | J9: LÍDER DE SISTEMAS DE GESTIÓN | L9: NIDIA PATRICA RODRIGUEZ R.
A26: VERSION | B26: FECHA | C26: RAZÓN DE LA ACTUALIZACION
A27: 1 | B27: 43458 | C27: Se elaborá manual MN-01-PR-MEJ-05 Metodología administración de riesgos de gestión - corrupción y formato FR-01-PR-MEJ-05 para su respectivo seguimiento.
B28: Enero del 2019 | C28: Se actualiza los riesgos de la Secretaría de Cultura, Recreación y Deporte con el fin de unificar riesgos de gestión y corrupción en cumplimiento de la actualizacion de los lineamiento de administración de riesgos.
A29: 2 | B29: Noviembre 13/2019 | C29: Se modifica el formato incluyendo todos los pasos para la formulación de riesgos, anexa mapa de calor y en la valoración del riesgo se incluye valoración de controles rango calificación del diseño, rango calificación de la ejecución y solidez del control integralmente (Diseño y Ejecución). orfeo no. 20195000215133
A30: 3 | B30: Enero 31 del 2020 | C30: Actualización de mapa de riesgos Proceso Gestión de TIC radicado Orfeo no. 20207400012983
A31: 4 | B31: Diciembre 15/2020 | C31: Actualización del mapa de Riesgos del Proceso Gestión de Tic radicado Orfeo no. 20207400277023, de acuerdo con el mapeo radicado Orfeo no. 20207400263763.
A33: Seguimiento y Monitoreo
B35: Elaboró | G35: Revisó
B36: Nombre | C36: Nidia Patricia Rodríguez Rodríguez | G36: Nombre | H36: Fabio Fernando Sánchez Sánchez
B37: Cargo | C37: Profesional Especializado | G37: Cargo | H37: Coordinador de Grupo Interno de Sistemas
B38: Dependencia | C38: Grupo Interno de Sistemas | G38: Dependencia | H38: Grupo Interno de Sistemas
B39: Fecha | C39: Diciembre del 2020 | G39: Fecha | H39: Diciembre del 2020

Sheet 1.Contexto
B1: MAPA DE RIESGOS | X1: Página 1 de 6
X5: Código: | Z5: FR-01-PR-MEJ-05
X7: Versión: | Z7: 2
X8: Fecha: | Z8: 43783
A9: Partiendo del contexto de la entidad "FT-01-DES-EST Conocimiento y contexto de la Organización para el Direccionamiento Estratégico" y el mapeo de cada uno de los procesos, se analiza las amenzas y debilidades que pueden generar situación de riesgo, teniendo en cuenta los objetivos estratégicos y de proceso de la entidad, a nivel de Contexto interno, externo y del Proceso.
A11: CONTEXTO ESTRATÉGICO DE LOS PROCESO
A13: EXTERNOS | J13: INTERNOS | S13: PROCESO
A14: FACTORES | B14: AMENAZAS | F14: SITUACION DE RIESGO | J14: FACTORES | K14: DEBILIDADES | N14: SITUACION DE RIESGO | S14: FACTORES | T14: DEBILIDADES | W14: SITUACION DE RIESGO
A15: ECONÓMICOS (Disponibilidad de capital, liquidez, mercados financieros, desempleo, competencia). | J15: FINANCIEROS (Presupuesto de funcionamiento, recursos de inversión, infraestructura, capacidad instalada). | K15: Gestión presupuestal que puede considerar recortes presupuestales para la entidad. | N15: Asignación presupuestal insuficiente para el proceso de Gestión de TIC. | S15: DISEÑO DEL PROCESO (Claridad en la descripción del alcance y objetivo del proceso).
A19: POLÍTICOS (Cambios de gobierno, legislación, políticas públicas, regulación). | B19: Cambios en la normatividad vigente. | F19: Se incluyan nuevos lineamientos TIC que no hayan sido considerados en el proceso de Gestión de TIC. | J19: PERSONAL (Competencia del personal, disponibilidad del personal, seguridad y salud ocupacional). | S19: INTERACCIONES CON OTROS PROCESOS (Relación precisa con otros procesos en cuanto a insumos, proveedores, productos, usuarios o clientes).
A24: SOCIALES ( Demografía, responsabilidad social, orden público). | J24: PROCESOS (Capacidad, diseño, ejecución, proveedores, entradas, salidas, gestión del conocimiento). | S24: TRANSVERSALIDAD (Procesos que determinan lineamientos necesarios para el desarrollo de todos los procesos de la entidad).
A27: TECNOLÓGICOS (Avances en tecnología, acceso a sistemas de información externos, gobierno en línea) | B27: Liberación de nuevas versiones de herramientas de software y Hardware R4 | F27: Que las nuevas liberaciones de versiones de herramientas de hardware o software sean requeridas para solucionar incidentes de seguridad informática o funcionales y que las mismas no están incluidas en el presupuesto del proceso de Gestión de TIC. | J27: TECNOLOGÍA (Integridad de datos, disponibilidad de datos y sistemas, desarrollo, producción, mantenimiento de sistemas de información). | S27: PROCEDIMIENTOS ASOCIADOS (Pertinencia en los procedimientos que desarrollan los procesos).
A32: MEDIO AMBIENTALES (Emisiones y residuos, energía, catástrofes naturales, desarrollo sostenible). | J32: ESTRATÉGICOS (Direccionamiento estratégico, planeación institucional, liderazgo, trabajo en equipo y Legal). | K32: Falta de posicionamiento estratégico del Proceso de Gestión de TIC dentro de la estructura organizacional de la SCRD. | N32: No lograr las reuniones de seguimiento al avance de los proyectos para definición, diseño e implementación de nuevos servicios TIC o sus modificaciones. | S32: RESPONSABLES DEL PROCESO (Grado de autoridad y responsabilidad de los funcionarios frente al proceso).
A36: COMUNICACIÓN EXTERNA (Mecanismos utilizados para entrar en contacto con los usuarios o ciudadanos, canales establecidos para que el mismo se comunique con la entidad). | J36: COMUNICACIÓN INTERNA (Canales utilizados y su efectividad, flujo de la información necesaria para el desarrollo de las operaciones). | K36: Utilización de software no licenciado por parte de los contratistas de la SCRD en la elaboración de productos. Deficiencias en la utilización de las herramientas informáticas, para hacer seguimiento, control, finalización y traslado de las respuestas emitidas al ciudadano. (FT-01-DES-EST) | N36: Efectos legales n la entidad por uso de software no licenciado por parte de los contratistas. | S36: COMUNICACIÓN ENTRE LOS PROCESOS (Efectividad en los flujos de información determinados en la interacción de los procesos). | T36: Detalle de las especificaciones funcionales y aprobación de avances por parte de las áreas funcionales en el registro de las solicitudes de Servicios TIC. | W36: No poder avanzar en la definición, diseño e implementación de nuevos servicios TIC o en sus actualizaciones dado que sin especificaciones detalladas o sin las aprobaciones de los avances no es posible pasar por cada una de las etapas de la definición, diseño e implementación de servicios TIC.

Sheet 2.Identificacion_Riesgos
E1: MAPA DE RIESGOS | S1: Página 2 de 6
S5: Código: | V5: FR-01-PR-MEJ-05
S6: Versión: | V6: 2
S7: Fecha: | V7: 43783
A8: ID | B8: TIPO DE PROCESO | C8: PROCESO | D8: DEPENDENCIA | E8: RIESGO | F8: ACTIVOS DE INFORMACIÓN | G8: CAUSAS INTERNAS / EXTERNAS | H8: CONSECUENCIA | I8: TIPOLOGÍA DE RIESGOS | J8: PROBABILIDAD | L8: IMPACTO | N8: ZONA DE RIESGO INHERENTE | O8: CONTROLES (ID CONTROL) | P8: CALIFICACIÓN CONTROLES PROBABILIDAD | Q8: CALIFICACIÓN CONTROLES IMPACTO | R8: PROBABILIDAD | T8: IMPACTO | V8: ZONA DE RIESGO RESIDUAL | W8: OPCIONES DE MANEJO
A10: R1 | B10: Apoyo | C10: Gestión de Tic | D10: Grupo Interno de Sistemas | E10: Afectación en el cumplimiento de los objetivos de los procesos de la entidad por la interrupción en la prestación del servicio de la infraestructura tecnológica. | F10: Infraestructura | G10: 1. Interrupción de los servicios de la energía eléctrica regulada al interior de la entidad o fallas imprevistas de los equipos | H10: 1. Sanciones e incumplimiento legal. 2. No cumplir con las metas Distritales. 3. Afectación de la imagen de la SCRD. 4. No genera la satisfacción de los clientes internos de la entidad. 5. Incremento de los reprocesos en la ejecución de las actividades. | I10: Tecnologicos | J10: Probable | K10: =IF(J10="Raro",1,IF(J10="Improbable",2,IF(J10="Posible",3,IF(J10="Probable",4,IF(J10="Casi Seguro",5))))) -> 4 | L10: Mayor | M10: =IF(L10="Insignificante",1,IF(L10="Menor",2,IF(L10="Moderado",3,IF(L10="Mayor ",4,IF(L10="Catastrófico",5))))) -> 4 | N10: =IF(AND(K10=1,M10=1),"BAJO 4%",IF(AND(K10=1,M10=2),"BAJO 16%",IF(AND(K10=2,M10=1),"BAJO 8%",IF(AND(K10=2,M10=2),"BAJO 20%",IF(AND(K10=3,M10=1),"BAJO 12%",IF(AND(K10=4,M10=1),"MODERADO 24%",IF(AND(K10=3,M10=2),"MODERADO 28%",IF(AND(K10=1,M10=3),"MODERADO 32%",IF(AND(K10=2,M10=3),"MODERADO 36%",IF(AND(K10=5,M10=1),"ALTO 40%",IF(AND(K10=4,M10=2),"ALTO 44%",IF(AND(K10=5,M10=2),"ALTO 48%",IF(AND(K10=3,M10=3),"ALTO 52%",IF(AND(K10=4,M10=3),"ALTO 56%",IF(AND(K10=1,M10=4),"ALTO 60%",IF(AND(K10=2,M10=4),"ALTO 64%",IF(AND(K10=1,M10=5),"ALTO 68%",IF(AND(K10=5,M10=3),"EXTREMA 72%",IF(AND(K10=3,M10=4),"EXTREMA 76%",IF(AND(K10=4,M10=4),"EXTREMA 80%",IF(AND(K10=5,M10=4),"EXTREMA 84%",IF(AND(K10=2,M10=5),"EXTREMA 88%",IF(AND(K10=3,M10=5),"EXTREMA 92%",IF(AND(K10=4,M10=5),"EXTREMA 96%",IF(AND(K10=5,M10=5),"EXTREMA 100%"))))))))))))))))))))))))) -> EXTREMA 80% | O10: =IF('3.Controles'!D15=1,'3.Controles'!D9,IF('3.Controles'!D15=2,'3.Controles'!D9&", "&'3.Controles'!D10,IF('3.Controles'!D15=3,'3.Controles'!D9&", "&'3.Controles'!D10&", "&'3.Controles'!D11,IF('3.Controles'!D15=4,'3.Controles'!D9&", "&'3.Controles'!D10&", "&'3.Controles'!D11&", "&'3.Controles'!D12,IF('3.Controles'!D15=5,'3.Controles'!D9&", "&'3.Controles'!D10&", "&'3.Controles'!D11&", "&'3.Controles'!D12&", "&'3.Controles'!D13,0))))) -> C16, C30, C15 | P10: ='3.Controles'!X15 -> 71 | Q10: ='3.Controles'!X14 -> 100 | R10: =IF(S10=1,"Raro",IF(S10=2,"Improbable",IF(S10=3,"Posible",IF(S10=4,"Probable",IF(S10=5,"Casi Seguro"))))) -> Posible | S10: =IF('3.Controles'!W15=1,IF('3.Controles'!X15<55,K10,IF('3.Controles'!X15<75,K10-1,IF('3.Controles'!X15<110,K10-2))),K10) -> 3 | T10: =IF(U10=1,"Insignificante",IF(U10=2,"Menor",IF(U10=3,"Moderado",IF(U10=4,"Mayor",IF(U10=5,"Catastrofico"))))) -> Menor | U10: =IF('3.Controles'!W14=1,IF('3.Controles'!X14<55,M10,IF('3.Controles'!X14<75,M10-1,IF('3.Controles'!X14<110,M10-2))),M10) -> 2 | V10: =IF(AND(S10=1,U10=1),"BAJO 4%",IF(AND(S10=1,U10=2),"BAJO 16%",IF(AND(S10=2,U10=1),"BAJO 8%",IF(AND(S10=2,U10=2),"BAJO 20%",IF(AND(S10=3,U10=1),"BAJO 12%",IF(AND(S10=4,U10=1),"MODERADO 24%",IF(AND(S10=3,U10=2),"MODERADO 28%",IF(AND(S10=1,U10=3),"MODERADO 32%",IF(AND(S10=2,U10=3),"MODERADO 36%",IF(AND(S10=5,U10=1),"ALTO 40%",IF(AND(S10=4,U10=2),"ALTO 44%",IF(AND(S10=5,U10=2),"ALTO 48%",IF(AND(S10=3,U10=3),"ALTO 52%",IF(AND(S10=4,U10=3),"ALTO 56%",IF(AND(S10=1,U10=4),"ALTO 60%",IF(AND(S10=2,U10=4),"ALTO 64%",IF(AND(S10=1,U10=5),"ALTO 68%",IF(AND(S10=5,U10=3),"EXTREMA 72%",IF(AND(S10=3,U10=4),"EXTREMA 76%",IF(AND(S10=4,U10=4),"EXTREMA 80%",IF(AND(S10=5,U10=4),"EXTREMA 84%",IF(AND(S10=2,U10=5),"EXTREMA 88%",IF(AND(S10=3,U10=5),"EXTREMA 92%",IF(AND(S10=4,U10=5),"EXTREMA 96%",IF(AND(S10=5,U10=5),"EXTREMA 100%"))))))))))))))))))))))))) -> MODERADO 28% | W10: REDUCIRLO O MITIGARLO
G11: 2. Incumplimiento de la prestación del servicio de los proveedores externos.
G12: 3. Desastres naturales o acciones deliberadas y no deliberadas por el factor humano.
A15: R2 | B15: Apoyo | C15: Gestión de Tic | D15: Grupo Interno de Sistemas | E15: Incumplimiento en los requerimientos solicitados por la Secretaría en la definición, diseño, construcción y entrega de soluciones TIC | F15: Software | G15: 1. Falta de adopción de formatos y registros para la definición de los requerimientos detallados por parte de la areas funcionales en la solicitudes de servicios TIC. | H15: 1.No genera la satisfacción de los clientes internos de la entidad. 2. Incremento de los reprocesos en la ejecución de las actividades. 3. Perdida de economicas 4. Incumplimiento normativo o regulatorio | I15: Tecnologicos | J15: Posible | K15: =IF(J15="Raro",1,IF(J15="Improbable",2,IF(J15="Posible",3,IF(J15="Probable",4,IF(J15="Casi Seguro",5))))) -> 3 | L15: Moderado | M15: =IF(L15="Insignificante",1,IF(L15="Menor",2,IF(L15="Moderado",3,IF(L15="Mayor ",4,IF(L15="Catastrófico",5))))) -> 3 | N15: =IF(AND(K15=1,M15=1),"BAJO 4%",IF(AND(K15=1,M15=2),"BAJO 16%",IF(AND(K15=2,M15=1),"BAJO 8%",IF(AND(K15=2,M15=2),"BAJO 20%",IF(AND(K15=3,M15=1),"BAJO 12%",IF(AND(K15=4,M15=1),"MODERADO 24%",IF(AND(K15=3,M15=2),"MODERADO 28%",IF(AND(K15=1,M15=3),"MODERADO 32%",IF(AND(K15=2,M15=3),"MODERADO 36%",IF(AND(K15=5,M15=1),"ALTO 40%",IF(AND(K15=4,M15=2),"ALTO 44%",IF(AND(K15=5,M15=2),"ALTO 48%",IF(AND(K15=3,M15=3),"ALTO 52%",IF(AND(K15=4,M15=3),"ALTO 56%",IF(AND(K15=1,M15=4),"ALTO 60%",IF(AND(K15=2,M15=4),"ALTO 64%",IF(AND(K15=1,M15=5),"ALTO 68%",IF(AND(K15=5,M15=3),"EXTREMA 72%",IF(AND(K15=3,M15=4),"EXTREMA 76%",IF(AND(K15=4,M15=4),"EXTREMA 80%",IF(AND(K15=5,M15=4),"EXTREMA 84%",IF(AND(K15=2,M15=5),"EXTREMA 88%",IF(AND(K15=3,M15=5),"EXTREMA 92%",IF(AND(K15=4,M15=5),"EXTREMA 96%",IF(AND(K15=5,M15=5),"EXTREMA 100%"))))))))))))))))))))))))) -> ALTO 52% | O15: =IF('3.Controles'!D22=1,'3.Controles'!D16,IF('3.Controles'!D22=2,'3.Controles'!D16&", "&'3.Controles'!D17,IF('3.Controles'!D22=3,'3.Controles'!D16&", "&'3.Controles'!D17&", "&'3.Controles'!D18,IF('3.Controles'!D22=4,'3.Controles'!D16&", "&'3.Controles'!D17&", "&'3.Controles'!D18&", "&'3.Controles'!D19,IF('3.Controles'!D22=5,'3.Controles'!D16&", "&'3.Controles'!D17&", "&'3.Controles'!D18&", "&'3.Controles'!D19&", "&'3.Controles'!D20,0))))) -> C17 | P15: ='3.Controles'!X22 -> 80 | Q15: ='3.Controles'!X21 -> #DIV/0! | R15: =IF(S15=1,"Raro",IF(S15=2,"Improbable",IF(S15=3,"Posible",IF(S15=4,"Probable",IF(S15=5,"Casi Seguro"))))) -> Raro | S15: =IF('3.Controles'!W22=1,IF('3.Controles'!X22<55,K15,IF('3.Controles'!X22<75,K15-1,IF('3.Controles'!X22<110,K15-2))),K15) -> 1 | T15: =IF(U15=1,"Insignificante",IF(U15=2,"Menor",IF(U15=3,"Moderado",IF(U15=4,"Mayor",IF(U15=5,"Catastrofico"))))) -> Moderado | U15: =IF('3.Controles'!W21=1,IF('3.Controles'!X21<55,M15,IF('3.Controles'!X21<75,M15-1,IF('3.Controles'!X21<110,M15-2))),M15) -> 3 | V15: =IF(AND(S15=1,U15=1),"BAJO 4%",IF(AND(S15=1,U15=2),"BAJO 16%",IF(AND(S15=2,U15=1),"BAJO 8%",IF(AND(S15=2,U15=2),"BAJO 20%",IF(AND(S15=3,U15=1),"BAJO 12%",IF(AND(S15=4,U15=1),"MODERADO 24%",IF(AND(S15=3,U15=2),"MODERADO 28%",IF(AND(S15=1,U15=3),"MODERADO 32%",IF(AND(S15=2,U15=3),"MODERADO 36%",IF(AND(S15=5,U15=1),"ALTO 40%",IF(AND(S15=4,U15=2),"ALTO 44%",IF(AND(S15=5,U15=2),"ALTO 48%",IF(AND(S15=3,U15=3),"ALTO 52%",IF(AND(S15=4,U15=3),"ALTO 56%",IF(AND(S15=1,U15=4),"ALTO 60%",IF(AND(S15=2,U15=4),"ALTO 64%",IF(AND(S15=1,U15=5),"ALTO 68%",IF(AND(S15=5,U15=3),"EXTREMA 72%",IF(AND(S15=3,U15=4),"EXTREMA 76%",IF(AND(S15=4,U15=4),"EXTREMA 80%",IF(AND(S15=5,U15=4),"EXTREMA 84%",IF(AND(S15=2,U15=5),"EXTREMA 88%",IF(AND(S15=3,U15=5),"EXTREMA 92%",IF(AND(S15=4,U15=5),"EXTREMA 96%",IF(AND(S15=5,U15=5),"EXTREMA 100%"))))))))))))))))))))))))) -> MODERADO 32% | W15: REDUCIRLO O MITIGARLO
A20: R3 | B20: Apoyo | C20: Gestión de Tic | D20: Grupo Interno de Sistemas | E20: Perdida de la confidencialidad, integridad y disponibilidad de los activos de información de la entidad | F20: Procesos | G20: 1. Falta de apropiación de la cultura de seguridad de la información y de las politicas por parte de funcionarios y contratistas de la entidad | H20: 1. Sanciones e incumplimiento legal. 2. Afectación de la imagen y reputación de la SCRD. 3. Degradación de los atributos de seguridad de la información (Confidencialidad, Integridad y Disponibilidad) de la entidad. 4. Incremento de los reprocesos en la ejecución de las actividades. 5. Perdida de información 6. Perdidas económicas 7. Materialización de riesgos de seguridad de la información. | I20: Tecnologicos | J20: Posible | K20: =IF(J20="Raro",1,IF(J20="Improbable",2,IF(J20="Posible",3,IF(J20="Probable",4,IF(J20="Casi Seguro",5))))) -> 3 | L20: Mayor | M20: =IF(L20="Insignificante",1,IF(L20="Menor",2,IF(L20="Moderado",3,IF(L20="Mayor ",4,IF(L20="Catastrófico",5))))) -> 4 | N20: =IF(AND(K20=1,M20=1),"BAJO 4%",IF(AND(K20=1,M20=2),"BAJO 16%",IF(AND(K20=2,M20=1),"BAJO 8%",IF(AND(K20=2,M20=2),"BAJO 20%",IF(AND(K20=3,M20=1),"BAJO 12%",IF(AND(K20=4,M20=1),"MODERADO 24%",IF(AND(K20=3,M20=2),"MODERADO 28%",IF(AND(K20=1,M20=3),"MODERADO 32%",IF(AND(K20=2,M20=3),"MODERADO 36%",IF(AND(K20=5,M20=1),"ALTO 40%",IF(AND(K20=4,M20=2),"ALTO 44%",IF(AND(K20=5,M20=2),"ALTO 48%",IF(AND(K20=3,M20=3),"ALTO 52%",IF(AND(K20=4,M20=3),"ALTO 56%",IF(AND(K20=1,M20=4),"ALTO 60%",IF(AND(K20=2,M20=4),"ALTO 64%",IF(AND(K20=1,M20=5),"ALTO 68%",IF(AND(K20=5,M20=3),"EXTREMA 72%",IF(AND(K20=3,M20=4),"EXTREMA 76%",IF(AND(K20=4,M20=4),"EXTREMA 80%",IF(AND(K20=5,M20=4),"EXTREMA 84%",IF(AND(K20=2,M20=5),"EXTREMA 88%",IF(AND(K20=3,M20=5),"EXTREMA 92%",IF(AND(K20=4,M20=5),"EXTREMA 96%",IF(AND(K20=5,M20=5),"EXTREMA 100%"))))))))))))))))))))))))) -> EXTREMA 76% | O20: =IF('3.Controles'!D29=1,'3.Controles'!D23,IF('3.Controles'!D29=2,'3.Controles'!D23&", "&'3.Controles'!D24,IF('3.Controles'!D29=3,'3.Controles'!D23&", "&'3.Controles'!D24&", "&'3.Controles'!D25,IF('3.Controles'!D29=4,'3.Controles'!D23&", "&'3.Controles'!D24&", "&'3.Controles'!D25&", "&'3.Controles'!D26,IF('3.Controles'!D29=5,'3.Controles'!D23&", "&'3.Controles'!D24&", "&'3.Controles'!D25&", "&'3.Controles'!D26&", "&'3.Controles'!D27,0))))) -> C5, C7, C19 | P20: ='3.Controles'!X29 -> 86 | Q20: ='3.Controles'!X28 -> 100 | R20: =IF(S20=1,"Raro",IF(S20=2,"Improbable",IF(S20=3,"Posible",IF(S20=4,"Probable",IF(S20=5,"Casi Seguro"))))) -> Raro | S20: =IF('3.Controles'!W29=1,IF('3.Controles'!X29<55,K20,IF('3.Controles'!X29<75,K20-1,IF('3.Controles'!X29<110,K20-2))),K20) -> 1 | T20: =IF(U20=1,"Insignificante",IF(U20=2,"Menor",IF(U20=3,"Moderado",IF(U20=4,"Mayor",IF(U20=5,"Catastrofico"))))) -> Menor | U20: =IF('3.Controles'!W28=1,IF('3.Controles'!X28<55,M20,IF('3.Controles'!X28<75,M20-1,IF('3.Controles'!X28<110,M20-2))),M20) -> 2 | V20: =IF(AND(S20=1,U20=1),"BAJO 4%",IF(AND(S20=1,U20=2),"BAJO 16%",IF(AND(S20=2,U20=1),"BAJO 8%",IF(AND(S20=2,U20=2),"BAJO 20%",IF(AND(S20=3,U20=1),"BAJO 12%",IF(AND(S20=4,U20=1),"MODERADO 24%",IF(AND(S20=3,U20=2),"MODERADO 28%",IF(AND(S20=1,U20=3),"MODERADO 32%",IF(AND(S20=2,U20=3),"MODERADO 36%",IF(AND(S20=5,U20=1),"ALTO 40%",IF(AND(S20=4,U20=2),"ALTO 44%",IF(AND(S20=5,U20=2),"ALTO 48%",IF(AND(S20=3,U20=3),"ALTO 52%",IF(AND(S20=4,U20=3),"ALTO 56%",IF(AND(S20=1,U20=4),"ALTO 60%",IF(AND(S20=2,U20=4),"ALTO 64%",IF(AND(S20=1,U20=5),"ALTO 68%",IF(AND(S20=5,U20=3),"EXTREMA 72%",IF(AND(S20=3,U20=4),"EXTREMA 76%",IF(AND(S20=4,U20=4),"EXTREMA 80%",IF(AND(S20=5,U20=4),"EXTREMA 84%",IF(AND(S20=2,U20=5),"EXTREMA 88%",IF(AND(S20=3,U20=5),"EXTREMA 92%",IF(AND(S20=4,U20=5),"EXTREMA 96%",IF(AND(S20=5,U20=5),"EXTREMA 100%"))))))))))))))))))))))))) -> BAJO 16% | W20: REDUCIRLO O MITIGARLO
G21: 2. Gestión inadecuada de los activos de información.
G22: 3. Falta de mecanismos para evitar el borrado, ocultamiento y desaparición de información de los sistemas de información oficiales de la Entidad.
A25: R4 | B25: Apoyo | C25: Gestión de Tic | D25: Grupo Interno de Sistemas | E25: Insatisfacción de usuarios de servicios tecnologicos por la no atención oportuna de requerimientos | F25: Personas | G25: 1. Falta de apropiación del procedimiento de soporte tecnico y manual de la herramienta de la mesa de servicios | H25: 1. Insatisfacción de usuarios de la entidad 2. Afectación de la imagen y gestión del proceso. | I25: Operativos | J25: Posible | K25: =IF(J25="Raro",1,IF(J25="Improbable",2,IF(J25="Posible",3,IF(J25="Probable",4,IF(J25="Casi Seguro",5))))) -> 3 | L25: Moderado | M25: =IF(L25="Insignificante",1,IF(L25="Menor",2,IF(L25="Moderado",3,IF(L25="Mayor ",4,IF(L25="Catastrófico",5))))) -> 3 | N25: =IF(AND(K25=1,M25=1),"BAJO 4%",IF(AND(K25=1,M25=2),"BAJO 16%",IF(AND(K25=2,M25=1),"BAJO 8%",IF(AND(K25=2,M25=2),"BAJO 20%",IF(AND(K25=3,M25=1),"BAJO 12%",IF(AND(K25=4,M25=1),"MODERADO 24%",IF(AND(K25=3,M25=2),"MODERADO 28%",IF(AND(K25=1,M25=3),"MODERADO 32%",IF(AND(K25=2,M25=3),"MODERADO 36%",IF(AND(K25=5,M25=1),"ALTO 40%",IF(AND(K25=4,M25=2),"ALTO 44%",IF(AND(K25=5,M25=2),"ALTO 48%",IF(AND(K25=3,M25=3),"ALTO 52%",IF(AND(K25=4,M25=3),"ALTO 56%",IF(AND(K25=1,M25=4),"ALTO 60%",IF(AND(K25=2,M25=4),"ALTO 64%",IF(AND(K25=1,M25=5),"ALTO 68%",IF(AND(K25=5,M25=3),"EXTREMA 72%",IF(AND(K25=3,M25=4),"EXTREMA 76%",IF(AND(K25=4,M25=4),"EXTREMA 80%",IF(AND(K25=5,M25=4),"EXTREMA 84%",IF(AND(K25=2,M25=5),"EXTREMA 88%",IF(AND(K25=3,M25=5),"EXTREMA 92%",IF(AND(K25=4,M25=5),"EXTREMA 96%",IF(AND(K25=5,M25=5),"EXTREMA 100%"))))))))))))))))))))))))) -> ALTO 52% | O25: =IF('3.Controles'!D36=1,'3.Controles'!D30,IF('3.Controles'!D36=2,'3.Controles'!D30&", "&'3.Controles'!D31,IF('3.Controles'!D36=3,'3.Controles'!D30&", "&'3.Controles'!D31&", "&'3.Controles'!D32,IF('3.Controles'!D36=4,'3.Controles'!D30&", "&'3.Controles'!D31&", "&'3.Controles'!D32&", "&'3.Controles'!D33,IF('3.Controles'!D36=5,'3.Controles'!D30&", "&'3.Controles'!D31&", "&'3.Controles'!D32&", "&'3.Controles'!D33&", "&'3.Controles'!D34,0))))) -> C17 | P25: ='3.Controles'!X36 -> 100 | Q25: ='3.Controles'!X35 -> #DIV/0! | R25: =IF(S25=1,"Raro",IF(S25=2,"Improbable",IF(S25=3,"Posible",IF(S25=4,"Probable",IF(S25=5,"Casi Seguro"))))) -> Raro | S25: =IF('3.Controles'!W36=1,IF('3.Controles'!X36<55,K25,IF('3.Controles'!X36<75,K25-1,IF('3.Controles'!X36<110,K25-2))),K25) -> 1 | T25: =IF(U25=1,"Insignificante",IF(U25=2,"Menor",IF(U25=3,"Moderado",IF(U25=4,"Mayor",IF(U25=5,"Catastrofico"))))) -> Moderado | U25: =IF('3.Controles'!W35=1,IF('3.Controles'!X35<55,M25,IF('3.Controles'!X35<75,M25-1,IF('3.Controles'!X35<110,M25-2))),M25) -> 3 | V25: =IF(AND(S25=1,U25=1),"BAJO 4%",IF(AND(S25=1,U25=2),"BAJO 16%",IF(AND(S25=2,U25=1),"BAJO 8%",IF(AND(S25=2,U25=2),"BAJO 20%",IF(AND(S25=3,U25=1),"BAJO 12%",IF(AND(S25=4,U25=1),"MODERADO 24%",IF(AND(S25=3,U25=2),"MODERADO 28%",IF(AND(S25=1,U25=3),"MODERADO 32%",IF(AND(S25=2,U25=3),"MODERADO 36%",IF(AND(S25=5,U25=1),"ALTO 40%",IF(AND(S25=4,U25=2),"ALTO 44%",IF(AND(S25=5,U25=2),"ALTO 48%",IF(AND(S25=3,U25=3),"ALTO 52%",IF(AND(S25=4,U25=3),"ALTO 56%",IF(AND(S25=1,U25=4),"ALTO 60%",IF(AND(S25=2,U25=4),"ALTO 64%",IF(AND(S25=1,U25=5),"ALTO 68%",IF(AND(S25=5,U25=3),"EXTREMA 72%",IF(AND(S25=3,U25=4),"EXTREMA 76%",IF(AND(S25=4,U25=4),"EXTREMA 80%",IF(AND(S25=5,U25=4),"EXTREMA 84%",IF(AND(S25=2,U25=5),"EXTREMA 88%",IF(AND(S25=3,U25=5),"EXTREMA 92%",IF(AND(S25=4,U25=5),"EXTREMA 96%",IF(AND(S25=5,U25=5),"EXTREMA 100%"))))))))))))))))))))))))) -> MODERADO 32% | W25: REDUCIRLO O MITIGARLO
A30: R5 | B30: Apoyo | C30: Gestión de Tic | D30: Grupo Interno de Sistemas | E30: Perdida de confidencialidad, integridad y disponibilidad de los activos de información en beneficio propio o de terceros por accesos indebidos o no autorizados de las bases de datos gestionadas por el GIS | F30: Información | G30: 1. Falta de gestión en el control de accesos a las bases de datos. | H30: 1. Afectación de imagen 2. Reprocesos 3. incumplimientos legales y normativos 4. Insatisfacción de usuarios 5. Incumplimientos de objetivos de la entidad. | I30: Corrupcion | J30: Probable | K30: =IF(J30="Raro",1,IF(J30="Improbable",2,IF(J30="Posible",3,IF(J30="Probable",4,IF(J30="Casi Seguro",5))))) -> 4 | L30: Mayor | M30: =IF(L30="Insignificante",1,IF(L30="Menor",2,IF(L30="Moderado",3,IF(L30="Mayor",4,IF(L30="Catastrófico",5))))) -> 4 | N30: =IF(AND(K30=1,M30=1),"BAJO 4%",IF(AND(K30=1,M30=2),"BAJO 16%",IF(AND(K30=2,M30=1),"BAJO 8%",IF(AND(K30=2,M30=2),"BAJO 20%",IF(AND(K30=3,M30=1),"BAJO 12%",IF(AND(K30=4,M30=1),"MODERADO 24%",IF(AND(K30=3,M30=2),"MODERADO 28%",IF(AND(K30=1,M30=3),"MODERADO 32%",IF(AND(K30=2,M30=3),"MODERADO 36%",IF(AND(K30=5,M30=1),"ALTO 40%",IF(AND(K30=4,M30=2),"ALTO 44%",IF(AND(K30=5,M30=2),"ALTO 48%",IF(AND(K30=3,M30=3),"ALTO 52%",IF(AND(K30=4,M30=3),"ALTO 56%",IF(AND(K30=1,M30=4),"ALTO 60%",IF(AND(K30=2,M30=4),"ALTO 64%",IF(AND(K30=1,M30=5),"ALTO 68%",IF(AND(K30=5,M30=3),"EXTREMA 72%",IF(AND(K30=3,M30=4),"EXTREMA 76%",IF(AND(K30=4,M30=4),"EXTREMA 80%",IF(AND(K30=5,M30=4),"EXTREMA 84%",IF(AND(K30=2,M30=5),"EXTREMA 88%",IF(AND(K30=3,M30=5),"EXTREMA 92%",IF(AND(K30=4,M30=5),"EXTREMA 96%",IF(AND(K30=5,M30=5),"EXTREMA 100%"))))))))))))))))))))))))) -> EXTREMA 80% | O30: =IF('3.Controles'!D43=1,'3.Controles'!D37,IF('3.Controles'!D43=2,'3.Controles'!D37&", "&'3.Controles'!D38,IF('3.Controles'!D43=3,'3.Controles'!D37&", "&'3.Controles'!D38&", "&'3.Controles'!D39,IF('3.Controles'!D43=4,'3.Controles'!D37&", "&'3.Controles'!D38&", "&'3.Controles'!D39&", "&'3.Controles'!D40,IF('3.Controles'!D43=5,'3.Controles'!D37&", "&'3.Controles'!D38&", "&'3.Controles'!D39&", "&'3.Controles'!D40&", "&'3.Controles'!D41,0))))) -> C13, C35 | P30: ='3.Controles'!X43 -> 90 | Q30: ='3.Controles'!X42 -> 80 | R30: =IF(S30=1,"Raro",IF(S30=2,"Improbable",IF(S30=3,"Posible",IF(S30=4,"Probable",IF(S30=5,"Casi Seguro"))))) -> Improbable | S30: =IF('3.Controles'!W43=1,IF('3.Controles'!X43<55,K30,IF('3.Controles'!X43<75,K30-1,IF('3.Controles'!X43<110,K30-2))),K30) -> 2 | T30: =IF(U30=1,"Insignificante",IF(U30=2,"Menor",IF(U30=3,"Moderado",IF(U30=4,"Mayor",IF(U30=5,"Catastrofico"))))) -> Menor | U30: =IF('3.Controles'!W42=1,IF('3.Controles'!X42<55,M30,IF('3.Controles'!X42<75,M30-1,IF('3.Controles'!X42<110,M30-2))),M30) -> 2 | V30: =IF(AND(S30=1,U30=1),"BAJO 4%",IF(AND(S30=1,U30=2),"BAJO 16%",IF(AND(S30=2,U30=1),"BAJO 8%",IF(AND(S30=2,U30=2),"BAJO 20%",IF(AND(S30=3,U30=1),"BAJO 12%",IF(AND(S30=4,U30=1),"MODERADO 24%",IF(AND(S30=3,U30=2),"MODERADO 28%",IF(AND(S30=1,U30=3),"MODERADO 32%",IF(AND(S30=2,U30=3),"MODERADO 36%",IF(AND(S30=5,U30=1),"ALTO 40%",IF(AND(S30=4,U30=2),"ALTO 44%",IF(AND(S30=5,U30=2),"ALTO 48%",IF(AND(S30=3,U30=3),"ALTO 52%",IF(AND(S30=4,U30=3),"ALTO 56%",IF(AND(S30=1,U30=4),"ALTO 60%",IF(AND(S30=2,U30=4),"ALTO 64%",IF(AND(S30=1,U30=5),"ALTO 68%",IF(AND(S30=5,U30=3),"EXTREMA 72%",IF(AND(S30=3,U30=4),"EXTREMA 76%",IF(AND(S30=4,U30=4),"EXTREMA 80%",IF(AND(S30=5,U30=4),"EXTREMA 84%",IF(AND(S30=2,U30=5),"EXTREMA 88%",IF(AND(S30=3,U30=5),"EXTREMA 92%",IF(AND(S30=4,U30=5),"EXTREMA 96%",IF(AND(S30=5,U30=5),"EXTREMA 100%"))))))))))))))))))))))))) -> BAJO 20% | W30: REDUCIRLO O MITIGARLO
G31: 2. Desconocimiento de politicas, lineamientos, procedimientos e instructivos de seguridad de la información y de la normativa nacional vigente.
A35: R6
A40: R7
A45: R8
A50: R9
A55: R10

Sheet Hoja1
B2: TIPO PROCESO | C2: TIPOLOGÍA DE RIESGOS | D2: IMPACTO | E2: DEPENDENCIA | F2: PROCESO | G2: ¿Existe un responsable asignado a la ejecución del control?
B3: Estratégico | C3: Estrategicos | D3: Insignificante | E3: Dirección de Planeación | F3: Direccionamiento Estratégico | G3: Asignado | H3: 15
B4: Misional | C4: Gerenciales | D4: Menor | E4: Dirección de Planeación | F4: Mejora Continua | G4: No asignado | H4: 0
B5: Apoyo | C5: Operativos | D5: Moderado | E5: Oficina Asesora de Comunicaciones | F5: Comunicaciones
B6: Evaluación | C6: Financieros | D6: Mayor | E6: Dirección de Fomento | F6: Fomento | G6: ¿El responsable tiene la autoridad y adecuada segregación de funciones en la ejecución del control?
C7: Tecnologicos | D7: Catastrófico | E7: Dirección de Cultura Ciudadana | F7: Trasnformaciones Culturales | G7: Asignado | H7: 15
C8: Cumplimiento | E8: Dirección de Lectura y Bibliotecas | F8: Transformaciones Culturales | G8: No asignado | H8: 0
C9: Imagen_o_Reputacional | E9: Dirección de Asusntos Locales | F9: Participación y Dialogo Social
C10: Corrupcion | E10: Dirección de Arte, Cultura y Patrimonio | F10: Gestión de la Infraestructura Cultural y Patrimonial | G10: ¿La oportunidad en que se ejecuta el control ayuda a prevenir la mitigación del riesgo o a detectar la materialización del riesgo de manera oportuna?
E11: Dirección de Persona Jurídicas | F11: Formalización de Entidades sin ánimo de lucro | G11: Oportuna | H11: 15
E12: Dirección de Gestión Corporativa | F12: Atención al Ciudadano | G12: Inoportuna | H12: 0
B13: Preventivo | E13: Grupo Interno de Recursos Financieros | F13: Gestión Financiera
B14: Detectivo | E14: Grupo Interno de Recursos Físicos | F14: Gestión Documental, de Recursos Físicos y Servicios Generales | G14: ¿Las actividades que se desarrollan en el control realmente buscan por si sola prevenir o detectar las causas que pueden dar origen al riesgo, ejemplo Verificar, Validar Cotejar, Comparar, Revisar, ¿etc.?
B15: No es un control | E15: Grupo Interno de Recursos Humanos | F15: Gestión de Talento Humano | G15: Prevenir | H15: 15
E16: Grupo Interno de Sistemas | F16: Gestión de Tic | G16: Detectar | H16: 10
E17: Oficina Asesora Jurídica | F17: Gestión Jurídica | G17: No es un control | H17: 0
E18: Oficina de Control interno | F18: Seguimiento y Evaluación de la Gestión
E19: Oficina de Control Iinterno Disciplinario | F19: Control Disciplinario | G19: ¿La fuente de información que se utiliza en el desarrollo del control es información confiable que permita mitigar el riesgo?
B20: FUERTE | G20: Confiable | H20: 15
B21: MODERADO | G21: No confiable | H21: 0
B22: DÉBIL
G23: ¿Las observaciones, desviaciones o diferencias identificadas como resultados de la ejecución del control son investigadas y resueltas de manera oportuna?
G24: Se investigan y resuelven oportunamente | H24: 15
B25: Adecuado | C25: Confiable | G25: No se investigan y resuelven oportunamente. | H25: 0
B26: Inadecuado | C26: No confiable
G27: ¿Se deja evidencia o rastro de la ejecución del control, que permita a cualquier tercero con la evidencia, llegar a la misma conclusión?
G28: Completa | H28: 10
G29: Incompleta | H29: 5
G30: No existente
B37: Fuerte | C37: Calificación entre 96 y 100
B38: Moderado | C38: Calificación entre 86 y 95
B39: Débil | C39: Calificación entre 0 y 85

Sheet 3.Controles
C1: MAPA DE RIESGOS | Z1: Página 3 de 6
Z5: Código: | AA5: FR-01-PR-MEJ-05
Z6: Versión: | AA6: 2
Z7: Fecha: | AA7: 43783
A8: ID RIESGO | B8: RIESGO | C8: CAUSAS | D8: ID CONTROL | E8: ALINEACIÓN ISO 27001 | G8: CONTROLES | H8: ¿EN QUE DOCUMENTO, SE EVIDENCIA EL CONTROL? | I8: AFECTA IMPACTO | J8: AFECTA PROBABILIDAD | K8: ¿Existe un responsable asignado a la ejecución del control? | L8: Valor | M8: ¿El responsable tiene la autoridad y adecuada segregación de funciones en la ejecución del control? | N8: Valor | O8: ¿La oportunidad en que se ejecuta el control ayuda a prevenir la mitigación del riesgo o a detectar la materialización del riesgo de manera oportuna? | P8: Valor | Q8: ¿Las actividades que se desarrollan en el control realmente buscan por si sola prevenir o detectar las causas que pueden dar origen al riesgo, ejemplo Verificar, Validar Cotejar, Comparar, Revisar (…)? | R8: Valor | S8: ¿La fuente de información que se utiliza en el desarrollo del control es información confiable que permita mitigar el riesgo? | T8: Valor | U8: ¿Las observaciones, desviaciones o diferencias identificadas como resultados de la ejecución del control son investigadas y resueltas de manera oportuna? | V8: Valor | W8: ¿Se deja evidencia o rastro de la ejecución del control, que permita a cualquier tercero con la evidencia, llegar a la misma conclusión? | X8: Valor | Y8: PUNTAJE | Z8: Rango Calificación del Diseño | AA8: Rango Calificación de la ejecución | AB8: Solidez del Control Integralmente (Diseño y Ejecución)
A9: R1 | B9: ='2.Identificacion_Riesgos'!E10 -> Afectación en el cumplimiento de los objetivos de los procesos de la entidad por la interrupción en la prestación del servicio de la infraestructura tecnológica. | C9: ='2.Identificacion_Riesgos'!G10 -> 1. Interrupción de los servicios de la energía eléctrica regulada al interior de la entidad o fallas imprevistas de los equipos | D9: =VLOOKUP($E9,'Controles ISO 27001'!$A$2:$C$36,3,FALSE) -> C16 | E9: 11.2 Seguridad de los equipos. | F9: =VLOOKUP(E9,'Controles ISO 27001'!$A$2:$B$36,2,FALSE) -> Prevenir la perdida, daño, robo o compromiso de activos, y la interrupción de las operaciones de la organización. | G9: Mantenimiento preventivo y correctivo de UPS vigente. Responsable: GIS - Recursos Fisicos Cómo se hace el control: Un proveedor especializado realiza el mantenimiento preventivo. Cuándo se hace: Trimestral. Cómo se evidencia: Acta de resultado. Si no se hace qué ocurre: Puede aumentar la probabilidad de ocurrencia del riesgo. | H9: Plan anual de mantenimiento | I9: NO | J9: SI | K9: Asignado | L9: =IF(K9="Asignado",15,0) -> 15 | M9: Adecuado | N9: =IF(M9="Adecuado",15,0) -> 15 | O9: Oportuna | P9: =IF(O9="Oportuna",15,0) -> 15 | Q9: Preventivo | R9: =IF(Q9="Preventivo",15,0) -> 15 | S9: Confiable | T9: =IF(S9="Confiable",15,0) -> 15 | U9: Se investigan y resuelven oportunamente | V9: =IF(U9="Se investigan y resuelven oportunamente",15,0) -> 15 | W9: Completa | X9: =IF(W9="Completa",10,IF(W9="Incompleta ",5,IF(W9="No existente",0,0))) -> 10 | Y9: =SUM(L9,N9,P9,R9,T9,V9,X9) -> 100 | Z9: =IF(Y9<=69,"DÉBIL",IF(AND(Y9>69,Y9<=89),"MODERADO",IF(Y9>89,"FUERTE","X"))) -> FUERTE | AA9: FUERTE | AB9: =IF(AND(Z9="FUERTE",AA9="FUERTE"),"FUERTE",IF(AND(Z9="FUERTE",AA9="MODERADO"),"MODERADO",IF(AND(Z9="FUERTE",AA9="DÉBIL"),"DÉBIL",IF(AND(Z9="MODERADO",AA9="FUERTE"),"MODERADO",IF(AND(Z9="MODERADO",AA9="MODERADO"),"MODERADO",IF(AND(Z9="MODERADO",AA9="DÉBIL"),"DÉBIL",IF(AND(Z9="DÉBIL",AA9="FUERTE"),"DÉBIL",IF(AND(Z9="DÉBIL",AA9="MODERADO"),"DÉBIL",IF(AND(Z9="DÉBIL",AA9="DÉBIL"),"DÉBIL","XX"))))))))) -> FUERTE | AD9: Rango Calificación de la Ejecución | AE9: Opción de Respuesta al Criterio de Evaluación
C10: ='2.Identificacion_Riesgos'!G11 -> 2. Incumplimiento de la prestación del servicio de los proveedores externos. | D10: =VLOOKUP($E10,'Controles ISO 27001'!$A$2:$C$36,3,FALSE) -> C30 | E10: 15.2 Gestión de la prestación del servicio por proveedores. | F10: =VLOOKUP(E10,'Controles ISO 27001'!$A$2:$B$36,2,FALSE) -> Mantener el nivel acordado de seguridad de la información y de prestación del servicio en línea con los acuerdos con los proveedores | G10: Contratos con terceros con Acuerdos de Nivel de Servicio ANS Responsable: GIS Cómo se hace el control: Proveedores especializados que proporcionan servicios de TI. Cuándo se hace: Reporte mensual y seguimiento semestral. Cómo se evidencia: Certificado de Supervision y cumplimiento. Si no se hace qué ocurre: Puede aumentar la probabilidad de ocurrencia del riesgo. | H10: ANS definidos en contratos de prestación de servicios Certificado de Supervisión y cumplimiento. | I10: SI | J10: SI | K10: Asignado | L10: =IF(K10="Asignado",15,0) -> 15 | M10: Adecuado | N10: =IF(M10="Adecuado",15,0) -> 15 | O10: Oportuna | P10: =IF(O10="Oportuna",15,0) -> 15 | Q10: Preventivo | R10: =IF(Q10="Preventivo",15,0) -> 15 | S10: Confiable | T10: =IF(S10="Confiable",15,0) -> 15 | U10: Se investigan y resuelven oportunamente | V10: =IF(U10="Se investigan y resuelven oportunamente",15,0) -> 15 | W10: Completa | X10: =IF(W10="Completa",10,IF(W10="Incompleta ",5,IF(W10="No existente",0,0))) -> 10 | Y10: =SUM(L10,N10,P10,R10,T10,V10,X10) -> 100 | Z10: =IF(Y10<=69,"DÉBIL",IF(AND(Y10>69,Y10<=89),"MODERADO",IF(Y10>89,"FUERTE","X"))) -> FUERTE | AA10: FUERTE | AB10: =IF(AND(Z10="FUERTE",AA10="FUERTE"),"FUERTE",IF(AND(Z10="FUERTE",AA10="MODERADO"),"MODERADO",IF(AND(Z10="FUERTE",AA10="DÉBIL"),"DÉBIL",IF(AND(Z10="MODERADO",AA10="FUERTE"),"MODERADO",IF(AND(Z10="MODERADO",AA10="MODERADO"),"MODERADO",IF(AND(Z10="MODERADO",AA10="DÉBIL"),"DÉBIL",IF(AND(Z10="DÉBIL",AA10="FUERTE"),"DÉBIL",IF(AND(Z10="DÉBIL",AA10="MODERADO"),"DÉBIL",IF(AND(Z10="DÉBIL",AA10="DÉBIL"),"DÉBIL","XX"))))))))) -> FUERTE | AD10: Fuerte | AE10: El control se ejecuta de manera consistente por parte del responsable
C11: ='2.Identificacion_Riesgos'!G12 -> 3. Desastres naturales o acciones deliberadas y no deliberadas por el factor humano. | D11: =VLOOKUP($E11,'Controles ISO 27001'!$A$2:$C$36,3,FALSE) -> C15 | E11: 11.1 Áreas seguras. | F11: =VLOOKUP(E11,'Controles ISO 27001'!$A$2:$B$36,2,FALSE) -> Prevenir el acceso físico no autorizado, el daño e interferencia a la información y a las instalaciones de procesamiento de información de la organización. | G11: Definición de los controles de acceso fisico a las areas de data center y cableado estructurado, asi como tambien revisión de factores ambientales y estructurales de las areas en mención Responsable: GIS - Recursos Fisicos Cómo se hace el control: Cumplir con las mejores practicas de diseño del Data center y centros de cableado, asi como tambien con las condiciones de seguridad en el acceso fisico. Cuándo se hace: Semestral Cómo se evidencia: Inspecciones fisicas a las areas seguras, documentada en acta. Si no se hace qué ocurre: Puede aumentar la probabilidad de ocurrencia del riesgo. | H11: Actas de revisión de las condiciones fisicas de las areas seguras. Bitacoras de control de accesos a las areas seguras. | I11: NO | J11: SI | K11: No asignado | L11: =IF(K11="Asignado",15,0) -> 0 | M11: Inadecuado | N11: =IF(M11="Adecuado",15,0) -> 0 | O11: Inoportuna | P11: =IF(O11="Oportuna",15,0) -> 0 | Q11: Preventivo | R11: =IF(Q11="Preventivo",15,0) -> 15 | S11: No confiable | T11: =IF(S11="Confiable",15,0) -> 0 | U11: No se investigan y resuelven oportunamente. | V11: =IF(U11="Se investigan y resuelven oportunamente",15,0) -> 0 | W11: No existente | X11: =IF(W11="Completa",10,IF(W11="Incompleta ",5,IF(W11="No existente",0,0))) -> 0 | Y11: =SUM(L11,N11,P11,R11,T11,V11,X11) -> 15 | Z11: =IF(Y11<=69,"DÉBIL",IF(AND(Y11>69,Y11<=89),"MODERADO",IF(Y11>89,"FUERTE","X"))) -> DÉBIL | AA11: DÉBIL | AB11: =IF(AND(Z11="FUERTE",AA11="FUERTE"),"FUERTE",IF(AND(Z11="FUERTE",AA11="MODERADO"),"MODERADO",IF(AND(Z11="FUERTE",AA11="DÉBIL"),"DÉBIL",IF(AND(Z11="MODERADO",AA11="FUERTE"),"MODERADO",IF(AND(Z11="MODERADO",AA11="MODERADO"),"MODERADO",IF(AND(Z11="MODERADO",AA11="DÉBIL"),"DÉBIL",IF(AND(Z11="DÉBIL",AA11="FUERTE"),"DÉBIL",IF(AND(Z11="DÉBIL",AA11="MODERADO"),"DÉBIL",IF(AND(Z11="DÉBIL",AA11="DÉBIL"),"DÉBIL","XX"))))))))) -> DÉBIL | AD11: Moderado | AE11: El control se ejecuta algunas veces por parte del responsable
C12: ='2.Identificacion_Riesgos'!G13 -> 0 | L12: =IF(K12="Asignado",15,0) -> 0 | N12: =IF(M12="Adecuado",15,0) -> 0 | P12: =IF(O12="Oportuna",15,0) -> 0 | R12: =IF(Q12="Preventivo",15,0) -> 0 | T12: =IF(S12="Confiable",15,0) -> 0 | V12: =IF(U12="Se investigan y resuelven oportunamente",15,0) -> 0 | X12: =IF(W12="Completa",10,IF(W12="Incompleta ",5,IF(W12="No existente",0,0))) -> 0 | Y12: =SUM(L12,N12,P12,R12,T12,V12,X12) -> 0 | Z12: =IF(Y12<=69,"DÉBIL",IF(AND(Y12>69,Y12<=89),"MODERADO",IF(Y12>89,"FUERTE","X"))) -> DÉBIL | AA12: FUERTE | AB12: =IF(AND(Z12="FUERTE",AA12="FUERTE"),"FUERTE",IF(AND(Z12="FUERTE",AA12="MODERADO"),"MODERADO",IF(AND(Z12="FUERTE",AA12="DÉBIL"),"DÉBIL",IF(AND(Z12="MODERADO",AA12="FUERTE"),"MODERADO",IF(AND(Z12="MODERADO",AA12="MODERADO"),"MODERADO",IF(AND(Z12="MODERADO",AA12="DÉBIL"),"DÉBIL",IF(AND(Z12="DÉBIL",AA12="FUERTE"),"DÉBIL",IF(AND(Z12="DÉBIL",AA12="MODERADO"),"DÉBIL",IF(AND(Z12="DÉBIL",AA12="DÉBIL"),"DÉBIL","XX"))))))))) -> DÉBIL | AD12: Débil | AE12: El control no se ejecuta por parte del responsable
C13: ='2.Identificacion_Riesgos'!G14 -> 0 | L13: =IF(K13="Asignado",15,0) -> 0 | N13: =IF(M13="Adecuado",15,0) -> 0 | P13: =IF(O13="Oportuna",15,0) -> 0 | R13: =IF(Q13="Preventivo",15,0) -> 0 | T13: =IF(S13="Confiable",15,0) -> 0 | V13: =IF(U13="Se investigan y resuelven oportunamente",15,0) -> 0 | X13: =IF(W13="Completa",10,IF(W13="Incompleta ",5,IF(W13="No existente",0,0))) -> 0 | Y13: =SUM(L13,N13,P13,R13,T13,V13,X13) -> 0 | Z13: =IF(Y13<=69,"DÉBIL",IF(AND(Y13>69,Y13<=89),"MODERADO",IF(Y13>89,"FUERTE","X"))) -> DÉBIL | AA13: FUERTE | AB13: =IF(AND(Z13="FUERTE",AA13="FUERTE"),"FUERTE",IF(AND(Z13="FUERTE",AA13="MODERADO"),"MODERADO",IF(AND(Z13="FUERTE",AA13="DÉBIL"),"DÉBIL",IF(AND(Z13="MODERADO",AA13="FUERTE"),"MODERADO",IF(AND(Z13="MODERADO",AA13="MODERADO"),"MODERADO",IF(AND(Z13="MODERADO",AA13="DÉBIL"),"DÉBIL",IF(AND(Z13="DÉBIL",AA13="FUERTE"),"DÉBIL",IF(AND(Z13="DÉBIL",AA13="MODERADO"),"DÉBIL",IF(AND(Z13="DÉBIL",AA13="DÉBIL"),"DÉBIL","XX"))))))))) -> DÉBIL
V14: IMPACTO | W14: =IF(I15>0,1,0) -> 1 | X14: =ROUNDDOWN(Y14,0) -> 100 | Y14: =AVERAGEIF(I9:I13,"SI",Y9:Y13) -> 100 | Z14: =IF(Y14<=85,"DÉBIL",IF(AND(Y14>85,Y14<=95),"MODERADO",IF(Y14>96,"FUERTE","X"))) -> FUERTE | AA14: FUERTE | AB14: =IF(AND(Z14="FUERTE",AA14="FUERTE"),"FUERTE",IF(AND(Z14="FUERTE",AA14="MODERADO"),"MODERADO",IF(AND(Z14="FUERTE",AA14="DÉBIL"),"DÉBIL",IF(AND(Z14="MODERADO",AA14="FUERTE"),"MODERADO",IF(AND(Z14="MODERADO",AA14="MODERADO"),"MODERADO",IF(AND(Z14="MODERADO",AA14="DÉBIL"),"DÉBIL",IF(AND(Z14="DÉBIL",AA14="FUERTE"),"DÉBIL",IF(AND(Z14="DÉBIL",AA14="MODERADO"),"DÉBIL",IF(AND(Z14="DÉBIL",AA14="DÉBIL"),"DÉBIL","XX"))))))))) -> FUERTE
D15: =COUNTA(D9:D13) -> 3 | I15: =COUNTIF(I9:I13,"SI") -> 1 | J15: =COUNTIF(J9:J13,"SI") -> 3 | V15: PROBABILIDAD | W15: =IF(J15>0,1,0) -> 1 | X15: =ROUNDDOWN(Y15,0) -> 71 | Y15: =AVERAGEIF(J9:J13,"SI",Y9:Y13) -> 71.666667 | Z15: =IF(Y15<=85,"DÉBIL",IF(AND(Y15>85,Y15<=95),"MODERADO",IF(Y15>96,"FUERTE","X"))) -> DÉBIL | AA15: MODERADO | AB15: =IF(AND(Z15="FUERTE",AA15="FUERTE"),"FUERTE",IF(AND(Z15="FUERTE",AA15="MODERADO"),"MODERADO",IF(AND(Z15="FUERTE",AA15="DÉBIL"),"DÉBIL",IF(AND(Z15="MODERADO",AA15="FUERTE"),"MODERADO",IF(AND(Z15="MODERADO",AA15="MODERADO"),"MODERADO",IF(AND(Z15="MODERADO",AA15="DÉBIL"),"DÉBIL",IF(AND(Z15="DÉBIL",AA15="FUERTE"),"DÉBIL",IF(AND(Z15="DÉBIL",AA15="MODERADO"),"DÉBIL",IF(AND(Z15="DÉBIL",AA15="DÉBIL"),"DÉBIL","XX"))))))))) -> DÉBIL
A16: R2 | B16: ='2.Identificacion_Riesgos'!E15 -> Incumplimiento en los requerimientos solicitados por la Secretaría en la definición, diseño, construcción y entrega de soluciones TIC | C16: ='2.Identificacion_Riesgos'!G15 -> 1. Falta de adopción de formatos y registros para la definición de los requerimientos detallados por parte de la areas funcionales en la solicitudes de servicios TIC. | D16: =VLOOKUP($E16,'Controles ISO 27001'!$A$2:$C$36,3,FALSE) -> C17 | E16: 12.1 Responsabilidades y procedimientos de operación. | F16: =VLOOKUP(E16,'Controles ISO 27001'!$A$2:$B$36,2,FALSE) -> Asegurar las operaciones correctas y seguras de las instalaciones de procesamiento de información. | G16: Mejora continua del procedimiento de gestión de sistemas de información Responsable: GIS Cómo se hace el control: 1. Revisión del procedimiento existente y definición de mejoras al mismo. 2. Revisión y seguimiento al cumplimiento del procedimiento Cuándo se hace: 1. Anual / 2. Semestral Cómo se evidencia: Publicación y divulgación del procedimiento en el sitema de gestión de calidad. Si no se hace qué ocurre: Puede aumentar la probabilidad de ocurrencia del riesgo. | H16: Actualización del procedimiento de gestión de sistemas de información y de su cumplimiento | I16: NO | J16: SI | K16: Asignado | L16: =IF(K16="Asignado",15,0) -> 15 | M16: Adecuado | N16: =IF(M16="Adecuado",15,0) -> 15 | O16: Inoportuna | P16: =IF(O16="Oportuna",15,0) -> 0 | Q16: Preventivo | R16: =IF(Q16="Preventivo",15,0) -> 15 | S16: Confiable | T16: =IF(S16="Confiable",15,0) -> 15 | U16: Se investigan y resuelven oportunamente | V16: =IF(U16="Se investigan y resuelven oportunamente",15,0) -> 15 | W16: Incompleta | X16: =IF(W16="Completa",10,IF(W16="Incompleta ",5,IF(W16="No existente",0,0))) -> 5 | Y16: =SUM(L16,N16,P16,R16,T16,V16,X16) -> 80 | Z16: =IF(Y16<=69,"DÉBIL",IF(AND(Y16>69,Y16<=89),"MODERADO",IF(Y16>89,"FUERTE","X"))) -> MODERADO | AA16: MODERADO | AB16: =IF(AND(Z16="FUERTE",AA16="FUERTE"),"FUERTE",IF(AND(Z16="FUERTE",AA16="MODERADO"),"MODERADO",IF(AND(Z16="FUERTE",AA16="DÉBIL"),"DÉBIL",IF(AND(Z16="MODERADO",AA16="FUERTE"),"MODERADO",IF(AND(Z16="MODERADO",AA16="MODERADO"),"MODERADO",IF(AND(Z16="MODERADO",AA16="DÉBIL"),"DÉBIL",IF(AND(Z16="DÉBIL",AA16="FUERTE"),"DÉBIL",IF(AND(Z16="DÉBIL",AA16="MODERADO"),"DÉBIL",IF(AND(Z16="DÉBIL",AA16="DÉBIL"),"DÉBIL","XX"))))))))) -> MODERADO
C17: ='2.Identificacion_Riesgos'!G16 -> 0 | L17: =IF(K17="Asignado",15,0) -> 0 | N17: =IF(M17="Adecuado",15,0) -> 0 | P17: =IF(O17="Oportuna",15,0) -> 0 | R17: =IF(Q17="Preventivo",15,0) -> 0 | T17: =IF(S17="Confiable",15,0) -> 0 | V17: =IF(U17="Se investigan y resuelven oportunamente",15,0) -> 0 | X17: =IF(W17="Completa",10,IF(W17="Incompleta ",5,IF(W17="No existente",0,0))) -> 0 | Y17: =SUM(L17,N17,P17,R17,T17,V17,X17) -> 0 | Z17: =IF(Y17<=69,"DÉBIL",IF(AND(Y17>69,Y17<=89),"MODERADO",IF(Y17>89,"FUERTE","X"))) -> DÉBIL | AA17: MODERADO | AB17: =IF(AND(Z17="FUERTE",AA17="FUERTE"),"FUERTE",IF(AND(Z17="FUERTE",AA17="MODERADO"),"MODERADO",IF(AND(Z17="FUERTE",AA17="DÉBIL"),"DÉBIL",IF(AND(Z17="MODERADO",AA17="FUERTE"),"MODERADO",IF(AND(Z17="MODERADO",AA17="MODERADO"),"MODERADO",IF(AND(Z17="MODERADO",AA17="DÉBIL"),"DÉBIL",IF(AND(Z17="DÉBIL",AA17="FUERTE"),"DÉBIL",IF(AND(Z17="DÉBIL",AA17="MODERADO"),"DÉBIL",IF(AND(Z17="DÉBIL",AA17="DÉBIL"),"DÉBIL","XX"))))))))) -> DÉBIL
C18: ='2.Identificacion_Riesgos'!G17 -> 0 | L18: =IF(K18="Asignado",15,0) -> 0 | N18: =IF(M18="Adecuado",15,0) -> 0 | P18: =IF(O18="Oportuna",15,0) -> 0 | R18: =IF(Q18="Preventivo",15,0) -> 0 | T18: =IF(S18="Confiable",15,0) -> 0 | V18: =IF(U18="Se investigan y resuelven oportunamente",15,0) -> 0 | X18: =IF(W18="Completa",10,IF(W18="Incompleta ",5,IF(W18="No existente",0,0))) -> 0 | Y18: =SUM(L18,N18,P18,R18,T18,V18,X18) -> 0 | Z18: =IF(Y18<=69,"DÉBIL",IF(AND(Y18>69,Y18<=89),"MODERADO",IF(Y18>89,"FUERTE","X"))) -> DÉBIL | AA18: DÉBIL | AB18: =IF(AND(Z18="FUERTE",AA18="FUERTE"),"FUERTE",IF(AND(Z18="FUERTE",AA18="MODERADO"),"MODERADO",IF(AND(Z18="FUERTE",AA18="DÉBIL"),"DÉBIL",IF(AND(Z18="MODERADO",AA18="FUERTE"),"MODERADO",IF(AND(Z18="MODERADO",AA18="MODERADO"),"MODERADO",IF(AND(Z18="MODERADO",AA18="DÉBIL"),"DÉBIL",IF(AND(Z18="DÉBIL",AA18="FUERTE"),"DÉBIL",IF(AND(Z18="DÉBIL",AA18="MODERADO"),"DÉBIL",IF(AND(Z18="DÉBIL",AA18="DÉBIL"),"DÉBIL","XX"))))))))) -> DÉBIL
C19: ='2.Identificacion_Riesgos'!G18 -> 0 | L19: =IF(K19="Asignado",15,0) -> 0 | N19: =IF(M19="Adecuado",15,0) -> 0 | P19: =IF(O19="Oportuna",15,0) -> 0 | R19: =IF(Q19="Preventivo",15,0) -> 0 | T19: =IF(S19="Confiable",15,0) -> 0 | V19: =IF(U19="Se investigan y resuelven oportunamente",15,0) -> 0 | X19: =IF(W19="Completa",10,IF(W19="Incompleta ",5,IF(W19="No existente",0,0))) -> 0 | Y19: =SUM(L19,N19,P19,R19,T19,V19,X19) -> 0 | Z19: =IF(Y19<=69,"DÉBIL",IF(AND(Y19>69,Y19<=89),"MODERADO",IF(Y19>89,"FUERTE","X"))) -> DÉBIL | AA19: DÉBIL | AB19: =IF(AND(Z19="FUERTE",AA19="FUERTE"),"FUERTE",IF(AND(Z19="FUERTE",AA19="MODERADO"),"MODERADO",IF(AND(Z19="FUERTE",AA19="DÉBIL"),"DÉBIL",IF(AND(Z19="MODERADO",AA19="FUERTE"),"MODERADO",IF(AND(Z19="MODERADO",AA19="MODERADO"),"MODERADO",IF(AND(Z19="MODERADO",AA19="DÉBIL"),"DÉBIL",IF(AND(Z19="DÉBIL",AA19="FUERTE"),"DÉBIL",IF(AND(Z19="DÉBIL",AA19="MODERADO"),"DÉBIL",IF(AND(Z19="DÉBIL",AA19="DÉBIL"),"DÉBIL","XX"))))))))) -> DÉBIL
C20: ='2.Identificacion_Riesgos'!G19 -> 0 | L20: =IF(K20="Asignado",15,0) -> 0 | N20: =IF(M20="Adecuado",15,0) -> 0 | P20: =IF(O20="Oportuna",15,0) -> 0 | R20: =IF(Q20="Preventivo",15,0) -> 0 | T20: =IF(S20="Confiable",15,0) -> 0 | V20: =IF(U20="Se investigan y resuelven oportunamente",15,0) -> 0 | X20: =IF(W20="Completa",10,IF(W20="Incompleta ",5,IF(W20="No existente",0,0))) -> 0 | Y20: =SUM(L20,N20,P20,R20,T20,V20,X20) -> 0 | Z20: =IF(Y20<=69,"DÉBIL",IF(AND(Y20>69,Y20<=89),"MODERADO",IF(Y20>89,"FUERTE","X"))) -> DÉBIL | AA20: DÉBIL | AB20: =IF(AND(Z20="FUERTE",AA20="FUERTE"),"FUERTE",IF(AND(Z20="FUERTE",AA20="MODERADO"),"MODERADO",IF(AND(Z20="FUERTE",AA20="DÉBIL"),"DÉBIL",IF(AND(Z20="MODERADO",AA20="FUERTE"),"MODERADO",IF(AND(Z20="MODERADO",AA20="MODERADO"),"MODERADO",IF(AND(Z20="MODERADO",AA20="DÉBIL"),"DÉBIL",IF(AND(Z20="DÉBIL",AA20="FUERTE"),"DÉBIL",IF(AND(Z20="DÉBIL",AA20="MODERADO"),"DÉBIL",IF(AND(Z20="DÉBIL",AA20="DÉBIL"),"DÉBIL","XX"))))))))) -> DÉBIL
